BEGIN:VCALENDAR
VERSION:2.0
PRODID:-//wchabitat.org//NONSGML kigkonsult.se iCalcreator 2.30.10//
CALSCALE:GREGORIAN
METHOD:PUBLISH
UID:fbcfa6e3-bd86-407f-abaf-a8bcb01e2675
X-WR-CALDESC:
X-WR-RELCALID:64d718253f0e14cca3b81edadc323533
X-WR-TIMEZONE:America/New_York
BEGIN:VTIMEZONE
TZID:America/New_York
BEGIN:STANDARD
TZNAME:EST
DTSTART:20301103T020000
TZOFFSETFROM:-0400
TZOFFSETTO:-0500
RDATE:20311102T020000
END:STANDARD
BEGIN:DAYLIGHT
TZNAME:EDT
DTSTART:20300310T020000
TZOFFSETFROM:-0500
TZOFFSETTO:-0400
RDATE:20310309T020000
RDATE:20320314T020000
END:DAYLIGHT
END:VTIMEZONE
BEGIN:VEVENT
UID:6531cb4e-8192-4a7f-89a6-0b290ecc0c4a
DTSTAMP:20260421T101455Z
DESCRIPTION:
DTSTART;TZID=America/New_York:20310114T170000
DTEND;TZID=America/New_York:20310114T180000
LOCATION:
SUMMARY:Homeowner Selection Committee Meeting
END:VEVENT
END:VCALENDAR
