BEGIN:VCALENDAR
VERSION:2.0
PRODID:-//wchabitat.org//NONSGML kigkonsult.se iCalcreator 2.30.10//
CALSCALE:GREGORIAN
METHOD:PUBLISH
UID:53718c0b-dd1a-49d7-9ccb-fda0849228a8
X-WR-CALDESC:
X-WR-RELCALID:88ae8e5c4e5538d412a40a0c3482dc32
X-WR-TIMEZONE:America/New_York
BEGIN:VTIMEZONE
TZID:America/New_York
BEGIN:STANDARD
TZNAME:EST
DTSTART:20301103T020000
TZOFFSETFROM:-0400
TZOFFSETTO:-0500
RDATE:20311102T020000
END:STANDARD
BEGIN:DAYLIGHT
TZNAME:EDT
DTSTART:20300310T020000
TZOFFSETFROM:-0500
TZOFFSETTO:-0400
RDATE:20310309T020000
RDATE:20320314T020000
END:DAYLIGHT
END:VTIMEZONE
BEGIN:VEVENT
UID:f26bc659-ed2d-4da3-92ad-652e1a2603a9
DTSTAMP:20260421T082440Z
DESCRIPTION:
DTSTART;TZID=America/New_York:20301226T080000
DTEND;TZID=America/New_York:20301226T090000
LOCATION:
SUMMARY:Site Selection Committee Meeting
END:VEVENT
END:VCALENDAR
