BEGIN:VCALENDAR
VERSION:2.0
PRODID:-//wchabitat.org//NONSGML kigkonsult.se iCalcreator 2.30.10//
CALSCALE:GREGORIAN
METHOD:PUBLISH
UID:104674f5-3742-46d4-967d-bce479d89ef4
X-WR-CALDESC:Please join us as we break ground and bless the build site for
  a family starting their homeownership journey.
X-WR-RELCALID:c5848201ca0ac3f2b8916d234a270601
X-WR-TIMEZONE:America/New_York
BEGIN:VTIMEZONE
TZID:America/New_York
BEGIN:STANDARD
TZNAME:EST
DTSTART:20251102T020000
TZOFFSETFROM:-0400
TZOFFSETTO:-0500
RDATE:20261101T020000
END:STANDARD
BEGIN:DAYLIGHT
TZNAME:EDT
DTSTART:20260308T020000
TZOFFSETFROM:-0500
TZOFFSETTO:-0400
RDATE:20270314T020000
END:DAYLIGHT
END:VTIMEZONE
BEGIN:VEVENT
UID:b64d93ad-c42c-4f5a-9560-ccf52ef34ab7
DTSTAMP:20260421T081435Z
DESCRIPTION:Please join us as we break ground and bless the build site for 
 a family starting their homeownership journey.
DTSTART;TZID=America/New_York:20260319T173000
DTEND;TZID=America/New_York:20260319T183000
LOCATION:436 Caldwell Street\, Bradner\, OH 43406 US
SUMMARY:Ground Breaking and Project Blessing
END:VEVENT
END:VCALENDAR
