BEGIN:VCALENDAR
VERSION:2.0
PRODID:-//wchabitat.org//NONSGML kigkonsult.se iCalcreator 2.30.10//
CALSCALE:GREGORIAN
METHOD:PUBLISH
UID:0fb9e517-c65e-42fa-9c8c-3aabaf5b0ce8
X-WR-CALDESC:
X-WR-RELCALID:7c25de485a966d5490a77b0629460c5b
X-WR-TIMEZONE:America/New_York
BEGIN:VTIMEZONE
TZID:America/New_York
BEGIN:STANDARD
TZNAME:EST
DTSTART:20241103T020000
TZOFFSETFROM:-0400
TZOFFSETTO:-0500
RDATE:20251102T020000
RDATE:20261101T020000
END:STANDARD
BEGIN:DAYLIGHT
TZNAME:EDT
DTSTART:20250309T020000
TZOFFSETFROM:-0500
TZOFFSETTO:-0400
RDATE:20260308T020000
END:DAYLIGHT
END:VTIMEZONE
BEGIN:VEVENT
UID:bfd076d8-87d5-41a6-9d25-7a10205d75a8
DTSTAMP:20260420T162845Z
DESCRIPTION:
DTSTART;TZID=America/New_York:20250828T080000
DTEND;TZID=America/New_York:20250828T090000
LOCATION:
SUMMARY:Site Selection Committee Meeting
END:VEVENT
END:VCALENDAR
