BEGIN:VCALENDAR
VERSION:2.0
PRODID:-//wchabitat.org//NONSGML kigkonsult.se iCalcreator 2.30.10//
CALSCALE:GREGORIAN
METHOD:PUBLISH
UID:1a0b3890-a66a-461a-9bdc-80b2950dc65f
X-WR-CALDESC:
X-WR-RELCALID:a5891afb8c6d8ca5062ebdf445e05601
X-WR-TIMEZONE:America/New_York
BEGIN:VTIMEZONE
TZID:America/New_York
BEGIN:STANDARD
TZNAME:EST
DTSTART:20241103T020000
TZOFFSETFROM:-0400
TZOFFSETTO:-0500
RDATE:20251102T020000
RDATE:20261101T020000
END:STANDARD
BEGIN:DAYLIGHT
TZNAME:EDT
DTSTART:20250309T020000
TZOFFSETFROM:-0500
TZOFFSETTO:-0400
RDATE:20260308T020000
END:DAYLIGHT
END:VTIMEZONE
BEGIN:VEVENT
UID:df462e9f-a02a-4f92-8291-d78e1163cb3c
DTSTAMP:20260420T161722Z
DESCRIPTION:
DTSTART;TZID=America/New_York:20250821T173000
DTEND;TZID=America/New_York:20250821T183000
LOCATION:117 W. Perry St.\, Suite 1\, Walbridge\, OH 43465 US
SUMMARY:Ground Breaking and Project Blessing in Walbridge for the Harder fa
 mily
END:VEVENT
END:VCALENDAR
