BEGIN:VCALENDAR
VERSION:2.0
PRODID:-//wchabitat.org//NONSGML kigkonsult.se iCalcreator 2.30.10//
CALSCALE:GREGORIAN
METHOD:PUBLISH
UID:615d5aa1-ded0-4c30-bd00-ab2f7c734aef
X-WR-CALDESC:
X-WR-RELCALID:fcb03d2fc2add62b5eb51afeb92a5828
X-WR-TIMEZONE:America/New_York
BEGIN:VTIMEZONE
TZID:America/New_York
BEGIN:STANDARD
TZNAME:EST
DTSTART:20241103T020000
TZOFFSETFROM:-0400
TZOFFSETTO:-0500
RDATE:20251102T020000
RDATE:20261101T020000
END:STANDARD
BEGIN:DAYLIGHT
TZNAME:EDT
DTSTART:20250309T020000
TZOFFSETFROM:-0500
TZOFFSETTO:-0400
RDATE:20260308T020000
END:DAYLIGHT
END:VTIMEZONE
BEGIN:VEVENT
UID:544bccd6-f712-4538-a6c6-bceb34d59443
DTSTAMP:20260420T161913Z
DESCRIPTION:
DTSTART;TZID=America/New_York:20250819T180000
DTEND;TZID=America/New_York:20250819T190000
LOCATION:326 Industrial Parkway\, Suite 1\, Bowling Green\, AL 43402 US
SUMMARY:Gala Planning Committee Meeting
END:VEVENT
END:VCALENDAR
