BEGIN:VCALENDAR
VERSION:2.0
PRODID:-//wchabitat.org//NONSGML kigkonsult.se iCalcreator 2.30.10//
CALSCALE:GREGORIAN
METHOD:PUBLISH
UID:5dd4bf4d-1451-4ec3-84b1-7fc57240e05e
X-WR-CALDESC:
X-WR-RELCALID:53ee31c819b2bb2537403e5596815d13
X-WR-TIMEZONE:America/New_York
BEGIN:VTIMEZONE
TZID:America/New_York
BEGIN:STANDARD
TZNAME:EST
DTSTART:20241103T020000
TZOFFSETFROM:-0400
TZOFFSETTO:-0500
RDATE:20251102T020000
RDATE:20261101T020000
END:STANDARD
BEGIN:DAYLIGHT
TZNAME:EDT
DTSTART:20250309T020000
TZOFFSETFROM:-0500
TZOFFSETTO:-0400
RDATE:20260308T020000
END:DAYLIGHT
END:VTIMEZONE
BEGIN:VEVENT
UID:b6f5c08d-7181-4470-a4dd-7ec752c4c224
DTSTAMP:20260420T164403Z
DESCRIPTION:
DTSTART;TZID=America/New_York:20250806T120000
DTEND;TZID=America/New_York:20250806T130000
LOCATION:
SUMMARY:Marketing Committee Meeting
END:VEVENT
END:VCALENDAR
