BEGIN:VCALENDAR
VERSION:2.0
PRODID:-//wchabitat.org//NONSGML kigkonsult.se iCalcreator 2.30.10//
CALSCALE:GREGORIAN
METHOD:PUBLISH
UID:74c11fc6-ba2f-406d-992d-f940230c1db6
X-WR-CALDESC:
X-WR-RELCALID:15ee273a2c2cb9953a5f049de2c63d32
X-WR-TIMEZONE:America/New_York
BEGIN:VTIMEZONE
TZID:America/New_York
BEGIN:STANDARD
TZNAME:EST
DTSTART:20241103T020000
TZOFFSETFROM:-0400
TZOFFSETTO:-0500
RDATE:20251102T020000
RDATE:20261101T020000
END:STANDARD
BEGIN:DAYLIGHT
TZNAME:EDT
DTSTART:20250309T020000
TZOFFSETFROM:-0500
TZOFFSETTO:-0400
RDATE:20260308T020000
END:DAYLIGHT
END:VTIMEZONE
BEGIN:VEVENT
UID:40587474-89e1-4eb5-9724-0793afc1d2c4
DTSTAMP:20260420T162928Z
DESCRIPTION:
DTSTART;TZID=America/New_York:20250805T173000
DTEND;TZID=America/New_York:20250805T193000
LOCATION:326 Industrial Parkway\, Suite 1\, Bowling Green\, AL 43402 US
SUMMARY:Homeowner Support Committee Meeting
END:VEVENT
END:VCALENDAR
