BEGIN:VCALENDAR
VERSION:2.0
PRODID:-//wchabitat.org//NONSGML kigkonsult.se iCalcreator 2.30.10//
CALSCALE:GREGORIAN
METHOD:PUBLISH
UID:315229e7-82d0-4165-be05-872b71effbdd
X-WR-CALDESC:Please join us for the Mike Cray Blitz Build Home Dedication C
 elebration on July 31\, 2025.  There will be tours of both homes\, an oppo
 rtunity to meet both families and take part in the Dedication Ceremony.  T
 here will be refreshments served.  The event starts at 5:30 pm.
X-WR-RELCALID:c4737847cb838ac0961ccfde3b61b967
X-WR-TIMEZONE:America/New_York
BEGIN:VTIMEZONE
TZID:America/New_York
BEGIN:STANDARD
TZNAME:EST
DTSTART:20241103T020000
TZOFFSETFROM:-0400
TZOFFSETTO:-0500
RDATE:20251102T020000
RDATE:20261101T020000
END:STANDARD
BEGIN:DAYLIGHT
TZNAME:EDT
DTSTART:20250309T020000
TZOFFSETFROM:-0500
TZOFFSETTO:-0400
RDATE:20260308T020000
END:DAYLIGHT
END:VTIMEZONE
BEGIN:VEVENT
UID:263b2bad-1ed7-42d7-b8cb-5c521ce233db
DTSTAMP:20260420T175629Z
DESCRIPTION:Please join us for the Mike Cray Blitz Build Home Dedication Ce
 lebration on July 31\, 2025.  There will be tours of both homes\, an oppor
 tunity to meet both families and take part in the Dedication Ceremony.  Th
 ere will be refreshments served.  The event starts at 5:30 pm.
DTSTART;TZID=America/New_York:20250731T173000
DTEND;TZID=America/New_York:20250731T183000
LOCATION:121 Maple Street\, Bradner\, OH 43406 US
SUMMARY:Mike Cray Blitz Build Home Dedication Celebration
END:VEVENT
END:VCALENDAR
