BEGIN:VCALENDAR
VERSION:2.0
PRODID:-//wchabitat.org//NONSGML kigkonsult.se iCalcreator 2.30.10//
CALSCALE:GREGORIAN
METHOD:PUBLISH
UID:2c2916d5-28d6-40a3-baf5-85cf2dc7a0ae
X-WR-CALDESC:
X-WR-RELCALID:39dfde33ae1304fb14fb48db2023cab8
X-WR-TIMEZONE:America/New_York
BEGIN:VTIMEZONE
TZID:America/New_York
BEGIN:STANDARD
TZNAME:EST
DTSTART:20241103T020000
TZOFFSETFROM:-0400
TZOFFSETTO:-0500
RDATE:20251102T020000
RDATE:20261101T020000
END:STANDARD
BEGIN:DAYLIGHT
TZNAME:EDT
DTSTART:20250309T020000
TZOFFSETFROM:-0500
TZOFFSETTO:-0400
RDATE:20260308T020000
END:DAYLIGHT
END:VTIMEZONE
BEGIN:VEVENT
UID:0e1f5ba3-0cbb-4243-9c24-0676cb2e5d8f
DTSTAMP:20260420T175845Z
DESCRIPTION:
DTSTART;TZID=America/New_York:20250717T060000
DTEND;TZID=America/New_York:20250717T060001
LOCATION:1540 E. Wooster St.\, Suite 1\, Bowling Green\, OH 43402 US
SUMMARY:Panera Bread Fundraiser
END:VEVENT
END:VCALENDAR
