BEGIN:VCALENDAR
VERSION:2.0
PRODID:-//wchabitat.org//NONSGML kigkonsult.se iCalcreator 2.30.10//
CALSCALE:GREGORIAN
METHOD:PUBLISH
UID:32d6f726-2ce9-45df-b52f-d9f3f82de2fa
X-WR-CALDESC:
X-WR-RELCALID:1a2b8dedae9a3a2b53c3e78ede0b28c9
X-WR-TIMEZONE:America/New_York
BEGIN:VTIMEZONE
TZID:America/New_York
BEGIN:STANDARD
TZNAME:EST
DTSTART:20241103T020000
TZOFFSETFROM:-0400
TZOFFSETTO:-0500
RDATE:20251102T020000
RDATE:20261101T020000
END:STANDARD
BEGIN:DAYLIGHT
TZNAME:EDT
DTSTART:20250309T020000
TZOFFSETFROM:-0500
TZOFFSETTO:-0400
RDATE:20260308T020000
END:DAYLIGHT
END:VTIMEZONE
BEGIN:VEVENT
UID:fc7cb2c2-a20d-4283-a0f1-4fbeec3e17dd
DTSTAMP:20260420T175501Z
DESCRIPTION:
DTSTART;TZID=America/New_York:20250702T120000
DTEND;TZID=America/New_York:20250702T130000
LOCATION:
SUMMARY:Marketing Committee Meeting
END:VEVENT
END:VCALENDAR
