BEGIN:VCALENDAR
VERSION:2.0
PRODID:-//wchabitat.org//NONSGML kigkonsult.se iCalcreator 2.30.10//
CALSCALE:GREGORIAN
METHOD:PUBLISH
UID:fd2fad0c-d2f8-4def-9d8d-c872cc3d5eb7
X-WR-CALDESC:
X-WR-RELCALID:087a15c066f67428a8a7247fe93982e0
X-WR-TIMEZONE:America/New_York
BEGIN:VTIMEZONE
TZID:America/New_York
BEGIN:STANDARD
TZNAME:EST
DTSTART:20241103T020000
TZOFFSETFROM:-0400
TZOFFSETTO:-0500
RDATE:20251102T020000
RDATE:20261101T020000
END:STANDARD
BEGIN:DAYLIGHT
TZNAME:EDT
DTSTART:20250309T020000
TZOFFSETFROM:-0500
TZOFFSETTO:-0400
RDATE:20260308T020000
END:DAYLIGHT
END:VTIMEZONE
BEGIN:VEVENT
UID:ec1c7e81-3b5c-427b-9980-97891b311f49
DTSTAMP:20260420T193535Z
DESCRIPTION:
DTSTART;TZID=America/New_York:20250624T173000
DTEND;TZID=America/New_York:20250624T183000
LOCATION:
SUMMARY:Board Meeting
END:VEVENT
END:VCALENDAR
