BEGIN:VCALENDAR
VERSION:2.0
PRODID:-//wchabitat.org//NONSGML kigkonsult.se iCalcreator 2.30.10//
CALSCALE:GREGORIAN
METHOD:PUBLISH
UID:d2d1202b-ff76-48d9-bdf2-0cbe736f1cf6
X-WR-CALDESC:Volunteer Celebration Picnic!  This day is all about celebrati
 ng our incredible volunteers who help build homes\, hope and community.  P
 lease join us Sunday\, June 22\, 2025 from 2-5pm at City Park\, Kiwanis Sh
 elter.  Bring a guest and enjoy a barbecue picnic\, ice cream social\, gam
 es & activities and the Volunteer Awards Ceremony.  Please RSVP by June 15
 \, 2025 to (419) 481-8100
X-WR-RELCALID:12c4bb083b53ea186fbbd1b637d5b15f
X-WR-TIMEZONE:America/New_York
BEGIN:VTIMEZONE
TZID:America/New_York
BEGIN:STANDARD
TZNAME:EST
DTSTART:20241103T020000
TZOFFSETFROM:-0400
TZOFFSETTO:-0500
RDATE:20251102T020000
RDATE:20261101T020000
END:STANDARD
BEGIN:DAYLIGHT
TZNAME:EDT
DTSTART:20250309T020000
TZOFFSETFROM:-0500
TZOFFSETTO:-0400
RDATE:20260308T020000
END:DAYLIGHT
END:VTIMEZONE
BEGIN:VEVENT
UID:df74cbe4-db20-4874-9d83-a913915680a5
DTSTAMP:20260420T193226Z
DESCRIPTION:Volunteer Celebration Picnic!  This day is all about celebratin
 g our incredible volunteers who help build homes\, hope and community.  Pl
 ease join us Sunday\, June 22\, 2025 from 2-5pm at City Park\, Kiwanis She
 lter.  Bring a guest and enjoy a barbecue picnic\, ice cream social\, game
 s & activities and the Volunteer Awards Ceremony.  Please RSVP by June 15\
 , 2025 to (419) 481-8100
DTSTART;TZID=America/New_York:20250622T140000
DTEND;TZID=America/New_York:20250622T170000
LOCATION:Kiwanis Memorial Picnic Shelter\, 520 Conneaut Avenue\, Bowling Gr
 een\, OH 43402 US
SUMMARY:Habitat Picnic and Volunteer Appreciation
END:VEVENT
END:VCALENDAR
