BEGIN:VCALENDAR
VERSION:2.0
PRODID:-//wchabitat.org//NONSGML kigkonsult.se iCalcreator 2.30.10//
CALSCALE:GREGORIAN
METHOD:PUBLISH
UID:320215c6-67c1-41a0-b2bf-d5814b567a41
X-WR-CALDESC:
X-WR-RELCALID:76f47ad7ed72e5a97c2d1971a00efe5d
X-WR-TIMEZONE:America/New_York
BEGIN:VTIMEZONE
TZID:America/New_York
BEGIN:STANDARD
TZNAME:EST
DTSTART:20241103T020000
TZOFFSETFROM:-0400
TZOFFSETTO:-0500
RDATE:20251102T020000
RDATE:20261101T020000
END:STANDARD
BEGIN:DAYLIGHT
TZNAME:EDT
DTSTART:20250309T020000
TZOFFSETFROM:-0500
TZOFFSETTO:-0400
RDATE:20260308T020000
END:DAYLIGHT
END:VTIMEZONE
BEGIN:VEVENT
UID:c19faa85-e17b-4bab-b9fe-e511016bd45d
DTSTAMP:20260420T192826Z
DESCRIPTION:
DTSTART;TZID=America/New_York:20250610T170000
DTEND;TZID=America/New_York:20250610T180000
LOCATION:
SUMMARY:Homeowner Selection Committee Meeting
END:VEVENT
END:VCALENDAR
