BEGIN:VCALENDAR
VERSION:2.0
PRODID:-//wchabitat.org//NONSGML kigkonsult.se iCalcreator 2.30.10//
CALSCALE:GREGORIAN
METHOD:PUBLISH
UID:77a1c0ea-e5e2-4cb0-b4ea-d482f51bd16c
X-WR-CALDESC:
X-WR-RELCALID:d4e20468b8c18f881b4f95f288c5e937
X-WR-TIMEZONE:America/New_York
BEGIN:VTIMEZONE
TZID:America/New_York
BEGIN:STANDARD
TZNAME:EST
DTSTART:20241103T020000
TZOFFSETFROM:-0400
TZOFFSETTO:-0500
RDATE:20251102T020000
RDATE:20261101T020000
END:STANDARD
BEGIN:DAYLIGHT
TZNAME:EDT
DTSTART:20250309T020000
TZOFFSETFROM:-0500
TZOFFSETTO:-0400
RDATE:20260308T020000
END:DAYLIGHT
END:VTIMEZONE
BEGIN:VEVENT
UID:c158065a-a8c3-42dc-b316-aec6b1b9ddcf
DTSTAMP:20260420T193454Z
DESCRIPTION:
DTSTART;TZID=America/New_York:20250603T173000
DTEND;TZID=America/New_York:20250603T193000
LOCATION:326 Industrial Parkway\, Suite 1\, Bowling Green\, AL 43402 US
SUMMARY:Homeowner Support Committee Meeting
END:VEVENT
END:VCALENDAR
