BEGIN:VCALENDAR
VERSION:2.0
PRODID:-//wchabitat.org//NONSGML kigkonsult.se iCalcreator 2.30.10//
CALSCALE:GREGORIAN
METHOD:PUBLISH
UID:00a8c85b-0084-4722-879d-c1229905f288
X-WR-CALDESC:
X-WR-RELCALID:7c9a24345d6713dffc8120e81a891f21
X-WR-TIMEZONE:America/New_York
BEGIN:VTIMEZONE
TZID:America/New_York
BEGIN:STANDARD
TZNAME:EST
DTSTART:20241103T020000
TZOFFSETFROM:-0400
TZOFFSETTO:-0500
RDATE:20251102T020000
RDATE:20261101T020000
END:STANDARD
BEGIN:DAYLIGHT
TZNAME:EDT
DTSTART:20250309T020000
TZOFFSETFROM:-0500
TZOFFSETTO:-0400
RDATE:20260308T020000
END:DAYLIGHT
END:VTIMEZONE
BEGIN:VEVENT
UID:f5adc7a0-739a-465e-a517-0f184b39c241
DTSTAMP:20260420T210517Z
DESCRIPTION:
DTSTART;TZID=America/New_York:20250527T173000
DTEND;TZID=America/New_York:20250527T183000
LOCATION:
SUMMARY:Board Meeting
END:VEVENT
END:VCALENDAR
