BEGIN:VCALENDAR
VERSION:2.0
PRODID:-//wchabitat.org//NONSGML kigkonsult.se iCalcreator 2.30.10//
CALSCALE:GREGORIAN
METHOD:PUBLISH
UID:295e5951-6b4c-4d74-87c2-dbeec40762a5
X-WR-CALDESC:
X-WR-RELCALID:1cbb35f7505609c35239f56b4031cfa5
X-WR-TIMEZONE:America/New_York
BEGIN:VTIMEZONE
TZID:America/New_York
BEGIN:STANDARD
TZNAME:EST
DTSTART:20241103T020000
TZOFFSETFROM:-0400
TZOFFSETTO:-0500
RDATE:20251102T020000
RDATE:20261101T020000
END:STANDARD
BEGIN:DAYLIGHT
TZNAME:EDT
DTSTART:20250309T020000
TZOFFSETFROM:-0500
TZOFFSETTO:-0400
RDATE:20260308T020000
END:DAYLIGHT
END:VTIMEZONE
BEGIN:VEVENT
UID:1b681cf0-17da-4366-a832-d1cdfdd27b7b
DTSTAMP:20260420T210138Z
DESCRIPTION:
DTSTART;TZID=America/New_York:20250513T170000
DTEND;TZID=America/New_York:20250513T180000
LOCATION:
SUMMARY:Homeowner Selection Committee Meeting
END:VEVENT
END:VCALENDAR
