BEGIN:VCALENDAR
VERSION:2.0
PRODID:-//wchabitat.org//NONSGML kigkonsult.se iCalcreator 2.30.10//
CALSCALE:GREGORIAN
METHOD:PUBLISH
UID:45a1d9c1-ea3e-4733-851f-ee7b2c3335fe
X-WR-CALDESC:
X-WR-RELCALID:55810013aec4fb2819bc3190132c8ce8
X-WR-TIMEZONE:America/New_York
BEGIN:VTIMEZONE
TZID:America/New_York
BEGIN:STANDARD
TZNAME:EST
DTSTART:20241103T020000
TZOFFSETFROM:-0400
TZOFFSETTO:-0500
RDATE:20251102T020000
RDATE:20261101T020000
END:STANDARD
BEGIN:DAYLIGHT
TZNAME:EDT
DTSTART:20250309T020000
TZOFFSETFROM:-0500
TZOFFSETTO:-0400
RDATE:20260308T020000
END:DAYLIGHT
END:VTIMEZONE
BEGIN:VEVENT
UID:0e77ebbb-3e54-4da8-ad11-85f99f442b14
DTSTAMP:20260420T212629Z
DESCRIPTION:
DTSTART;TZID=America/New_York:20250507T120000
DTEND;TZID=America/New_York:20250507T130000
LOCATION:
SUMMARY:Marketing Committee Meeting
END:VEVENT
END:VCALENDAR
