BEGIN:VCALENDAR
VERSION:2.0
PRODID:-//wchabitat.org//NONSGML kigkonsult.se iCalcreator 2.30.10//
CALSCALE:GREGORIAN
METHOD:PUBLISH
UID:bf936ab7-c37c-49fd-8018-9a7445ad0e9e
X-WR-CALDESC:
X-WR-RELCALID:7bb8df32d1a99f9c36d2f0e96bc92aa8
X-WR-TIMEZONE:America/New_York
BEGIN:VTIMEZONE
TZID:America/New_York
BEGIN:STANDARD
TZNAME:EST
DTSTART:20241103T020000
TZOFFSETFROM:-0400
TZOFFSETTO:-0500
RDATE:20251102T020000
RDATE:20261101T020000
END:STANDARD
BEGIN:DAYLIGHT
TZNAME:EDT
DTSTART:20250309T020000
TZOFFSETFROM:-0500
TZOFFSETTO:-0400
RDATE:20260308T020000
END:DAYLIGHT
END:VTIMEZONE
BEGIN:VEVENT
UID:1f685679-4ddf-4490-ae7c-4eb73d486e23
DTSTAMP:20260420T212759Z
DESCRIPTION:
DTSTART;TZID=America/New_York:20250506T173000
DTEND;TZID=America/New_York:20250506T193000
LOCATION:326 Industrial Parkway\, Suite 1\, Bowling Green\, AL 43402 US
SUMMARY:Homeowner Support Committee Meeting
END:VEVENT
END:VCALENDAR
