BEGIN:VCALENDAR
VERSION:2.0
PRODID:-//wchabitat.org//NONSGML kigkonsult.se iCalcreator 2.30.10//
CALSCALE:GREGORIAN
METHOD:PUBLISH
UID:ab806038-bcba-45d5-9a85-3a113e32a479
X-WR-CALDESC:
X-WR-RELCALID:91cdf585d7ced97a5ef98f1c89dc9a94
X-WR-TIMEZONE:America/New_York
BEGIN:VTIMEZONE
TZID:America/New_York
BEGIN:STANDARD
TZNAME:EST
DTSTART:20241103T020000
TZOFFSETFROM:-0400
TZOFFSETTO:-0500
RDATE:20251102T020000
RDATE:20261101T020000
END:STANDARD
BEGIN:DAYLIGHT
TZNAME:EDT
DTSTART:20250309T020000
TZOFFSETFROM:-0500
TZOFFSETTO:-0400
RDATE:20260308T020000
END:DAYLIGHT
END:VTIMEZONE
BEGIN:VEVENT
UID:1bb38ca6-7e89-45ec-88bf-86a657fe2a8a
DTSTAMP:20260420T212500Z
DESCRIPTION:
DTSTART;TZID=America/New_York:20250502T080000
DTEND;TZID=America/New_York:20250502T110000
LOCATION:Mike Cray Blitz Build Site\, 401 W. Lightner St.\, Bradner \, OH 4
 3406 US
SUMMARY:Women Build Morning Session
END:VEVENT
END:VCALENDAR
