BEGIN:VCALENDAR
VERSION:2.0
PRODID:-//wchabitat.org//NONSGML kigkonsult.se iCalcreator 2.30.10//
CALSCALE:GREGORIAN
METHOD:PUBLISH
UID:416c5ae2-e4ac-49dc-81bb-920947fff5c5
X-WR-CALDESC:
X-WR-RELCALID:baac47d928a17896ca1b78bce6cae13e
X-WR-TIMEZONE:America/New_York
BEGIN:VTIMEZONE
TZID:America/New_York
BEGIN:STANDARD
TZNAME:EST
DTSTART:20241103T020000
TZOFFSETFROM:-0400
TZOFFSETTO:-0500
RDATE:20251102T020000
RDATE:20261101T020000
END:STANDARD
BEGIN:DAYLIGHT
TZNAME:EDT
DTSTART:20250309T020000
TZOFFSETFROM:-0500
TZOFFSETTO:-0400
RDATE:20260308T020000
END:DAYLIGHT
END:VTIMEZONE
BEGIN:VEVENT
UID:e3c80001-0f19-476f-8d77-d821231edbbc
DTSTAMP:20260420T211923Z
DESCRIPTION:
DTSTART;TZID=America/New_York:20250502T120000
DTEND;TZID=America/New_York:20250502T150000
LOCATION:Mike Cray Blitz Build Site\, 409 W. Lightner St.\, Bradner\, OH 43
 406 US
SUMMARY:Women Build Afternoon Session
END:VEVENT
END:VCALENDAR
