BEGIN:VCALENDAR
VERSION:2.0
PRODID:-//wchabitat.org//NONSGML kigkonsult.se iCalcreator 2.30.10//
CALSCALE:GREGORIAN
METHOD:PUBLISH
UID:b82fe8bb-cf68-411c-bde6-10f474924c3e
X-WR-CALDESC:
X-WR-RELCALID:ef1b50ba88de1477880d43f22354c34a
X-WR-TIMEZONE:America/New_York
BEGIN:VTIMEZONE
TZID:America/New_York
BEGIN:STANDARD
TZNAME:EST
DTSTART:20241103T020000
TZOFFSETFROM:-0400
TZOFFSETTO:-0500
RDATE:20251102T020000
END:STANDARD
BEGIN:DAYLIGHT
TZNAME:EDT
DTSTART:20250309T020000
TZOFFSETFROM:-0500
TZOFFSETTO:-0400
RDATE:20260308T020000
END:DAYLIGHT
END:VTIMEZONE
BEGIN:VEVENT
UID:765b2f3c-31f7-4450-b0cd-51dc9e762062
DTSTAMP:20260420T230803Z
DESCRIPTION:
DTSTART;TZID=America/New_York:20250424T080000
DTEND;TZID=America/New_York:20250424T090000
LOCATION:
SUMMARY:Site Selection Committee Meeting
END:VEVENT
END:VCALENDAR
