BEGIN:VCALENDAR
VERSION:2.0
PRODID:-//wchabitat.org//NONSGML kigkonsult.se iCalcreator 2.30.10//
CALSCALE:GREGORIAN
METHOD:PUBLISH
UID:ae78dbd7-a2f1-484d-ac6c-b22f3ddb8794
X-WR-CALDESC:Please join us as we celebrate a ground breaking for the Mike 
 Cray Blitz Build.  We will be building two homes simultaneously along with
  our build partners\, Ridge Stone Builders and Lakeside Interiors\, and ma
 ny volunteers.  The homes are being built fort the Dowden and Patton famil
 ies.
X-WR-RELCALID:d0370aa612a4264dae85f9de709c055e
X-WR-TIMEZONE:America/New_York
BEGIN:VTIMEZONE
TZID:America/New_York
BEGIN:STANDARD
TZNAME:EST
DTSTART:20241103T020000
TZOFFSETFROM:-0400
TZOFFSETTO:-0500
RDATE:20251102T020000
END:STANDARD
BEGIN:DAYLIGHT
TZNAME:EDT
DTSTART:20250309T020000
TZOFFSETFROM:-0500
TZOFFSETTO:-0400
RDATE:20260308T020000
END:DAYLIGHT
END:VTIMEZONE
BEGIN:VEVENT
UID:da7b82af-2f2a-4a27-9dde-b0fe5c76086c
DTSTAMP:20260420T224836Z
DESCRIPTION:Please join us as we celebrate a ground breaking for the Mike C
 ray Blitz Build.  We will be building two homes simultaneously along with 
 our build partners\, Ridge Stone Builders and Lakeside Interiors\, and man
 y volunteers.  The homes are being built fort the Dowden and Patton famili
 es.
DTSTART;TZID=America/New_York:20250403T060000
DTEND;TZID=America/New_York:20250403T060001
LOCATION:121 Maple Street\, Bradner\, OH 43406 US
SUMMARY:Ground Breaking and Project Blessing for the Mike Cray Blitz Build
END:VEVENT
END:VCALENDAR
