BEGIN:VCALENDAR
VERSION:2.0
PRODID:-//wchabitat.org//NONSGML kigkonsult.se iCalcreator 2.30.10//
CALSCALE:GREGORIAN
METHOD:PUBLISH
UID:e57eeb11-289f-47f5-a6dc-8be8e9c09a0c
X-WR-CALDESC:
X-WR-RELCALID:9f525a5aec03a539dd34b9b3bbde6308
X-WR-TIMEZONE:America/New_York
BEGIN:VTIMEZONE
TZID:America/New_York
BEGIN:STANDARD
TZNAME:EST
DTSTART:20241103T020000
TZOFFSETFROM:-0400
TZOFFSETTO:-0500
RDATE:20251102T020000
END:STANDARD
BEGIN:DAYLIGHT
TZNAME:EDT
DTSTART:20250309T020000
TZOFFSETFROM:-0500
TZOFFSETTO:-0400
RDATE:20260308T020000
END:DAYLIGHT
END:VTIMEZONE
BEGIN:VEVENT
UID:c623b585-f6bb-4cf5-ab43-741691f30582
DTSTAMP:20260420T231526Z
DESCRIPTION:
DTSTART;TZID=America/New_York:20250401T173000
DTEND;TZID=America/New_York:20250401T193000
LOCATION:326 Industrial Parkway\, Suite 1\, Bowling Green\, AL 43402 US
SUMMARY:Homeowner Support Committee Meeting
END:VEVENT
END:VCALENDAR
