BEGIN:VCALENDAR
VERSION:2.0
PRODID:-//wchabitat.org//NONSGML kigkonsult.se iCalcreator 2.30.10//
CALSCALE:GREGORIAN
METHOD:PUBLISH
UID:c07eb185-1f19-4a32-95c7-cb6d7bebec28
X-WR-CALDESC:
X-WR-RELCALID:d6e84337fdedb9d7d6f280f3365856c2
X-WR-TIMEZONE:America/New_York
BEGIN:VTIMEZONE
TZID:America/New_York
BEGIN:STANDARD
TZNAME:EST
DTSTART:20241103T020000
TZOFFSETFROM:-0400
TZOFFSETTO:-0500
RDATE:20251102T020000
END:STANDARD
BEGIN:DAYLIGHT
TZNAME:EDT
DTSTART:20250309T020000
TZOFFSETFROM:-0500
TZOFFSETTO:-0400
RDATE:20260308T020000
END:DAYLIGHT
END:VTIMEZONE
BEGIN:VEVENT
UID:15ca3408-b94a-451b-85f7-77138f673e0b
DTSTAMP:20260420T234902Z
DESCRIPTION:
DTSTART;TZID=America/New_York:20250311T170000
DTEND;TZID=America/New_York:20250311T180000
LOCATION:
SUMMARY:Homeowner Selection Committee Meeting
END:VEVENT
END:VCALENDAR
