BEGIN:VCALENDAR
VERSION:2.0
PRODID:-//wchabitat.org//NONSGML kigkonsult.se iCalcreator 2.30.10//
CALSCALE:GREGORIAN
METHOD:PUBLISH
UID:3a1c24c0-5d4c-44a3-9ee1-2165096daf5f
X-WR-CALDESC:
X-WR-RELCALID:8b77978bbbb304f77bc8acad4a979c36
X-WR-TIMEZONE:America/New_York
BEGIN:VTIMEZONE
TZID:America/New_York
BEGIN:STANDARD
TZNAME:EST
DTSTART:20241103T020000
TZOFFSETFROM:-0400
TZOFFSETTO:-0500
RDATE:20251102T020000
END:STANDARD
BEGIN:DAYLIGHT
TZNAME:EDT
DTSTART:20240310T020000
TZOFFSETFROM:-0500
TZOFFSETTO:-0400
RDATE:20250309T020000
RDATE:20260308T020000
END:DAYLIGHT
END:VTIMEZONE
BEGIN:VEVENT
UID:aa775d87-7d72-4372-b21e-0a2af22f3635
DTSTAMP:20260421T001222Z
DESCRIPTION:
DTSTART;TZID=America/New_York:20250305T090000
DTEND;TZID=America/New_York:20250305T140000
LOCATION:326 Industrial Parkway\, Suite 1\, Bowling Green\, OH 43402 US
SUMMARY:Core Crew Kick Off lunch
END:VEVENT
END:VCALENDAR
