BEGIN:VCALENDAR
VERSION:2.0
PRODID:-//wchabitat.org//NONSGML kigkonsult.se iCalcreator 2.30.10//
CALSCALE:GREGORIAN
METHOD:PUBLISH
UID:ca663d4a-324c-474f-9cd2-14bd437cf75d
X-WR-CALDESC:
X-WR-RELCALID:e48389e41296e8d9eaa91e2e13e2b524
X-WR-TIMEZONE:America/New_York
BEGIN:VTIMEZONE
TZID:America/New_York
BEGIN:STANDARD
TZNAME:EST
DTSTART:20241103T020000
TZOFFSETFROM:-0400
TZOFFSETTO:-0500
RDATE:20251102T020000
END:STANDARD
BEGIN:DAYLIGHT
TZNAME:EDT
DTSTART:20240310T020000
TZOFFSETFROM:-0500
TZOFFSETTO:-0400
RDATE:20250309T020000
RDATE:20260308T020000
END:DAYLIGHT
END:VTIMEZONE
BEGIN:VEVENT
UID:bf1ef53d-dc19-4846-a9dc-4622f684ad26
DTSTAMP:20260421T000235Z
DESCRIPTION:
DTSTART;TZID=America/New_York:20250304T173000
DTEND;TZID=America/New_York:20250304T193000
LOCATION:326 Industrial Parkway\, Suite 1\, Bowling Green\, AL 43402 US
SUMMARY:Homeowner Support Committee Meeting
END:VEVENT
END:VCALENDAR
