BEGIN:VCALENDAR
VERSION:2.0
PRODID:-//wchabitat.org//NONSGML kigkonsult.se iCalcreator 2.30.10//
CALSCALE:GREGORIAN
METHOD:PUBLISH
UID:9bbed1d9-28f7-455a-8537-c198fd7c6ec3
X-WR-CALDESC:
X-WR-RELCALID:848e66dd80472fea808c7a4211a3baed
X-WR-TIMEZONE:America/New_York
BEGIN:VTIMEZONE
TZID:America/New_York
BEGIN:STANDARD
TZNAME:EST
DTSTART:20241103T020000
TZOFFSETFROM:-0400
TZOFFSETTO:-0500
RDATE:20251102T020000
END:STANDARD
BEGIN:DAYLIGHT
TZNAME:EDT
DTSTART:20240310T020000
TZOFFSETFROM:-0500
TZOFFSETTO:-0400
RDATE:20250309T020000
RDATE:20260308T020000
END:DAYLIGHT
END:VTIMEZONE
BEGIN:VEVENT
UID:51b23306-b603-4262-bbbc-63c9775f0941
DTSTAMP:20260421T013532Z
DESCRIPTION:
DTSTART;TZID=America/New_York:20250225T173000
DTEND;TZID=America/New_York:20250225T183000
LOCATION:
SUMMARY:Board Meeting
END:VEVENT
END:VCALENDAR
