BEGIN:VCALENDAR
VERSION:2.0
PRODID:-//wchabitat.org//NONSGML kigkonsult.se iCalcreator 2.30.10//
CALSCALE:GREGORIAN
METHOD:PUBLISH
UID:59a93fa7-71de-4a9e-a97f-23d3d75b70cc
X-WR-CALDESC:
X-WR-RELCALID:c16a81f3f9507fa0e4d3bd304caea1b9
X-WR-TIMEZONE:America/New_York
BEGIN:VTIMEZONE
TZID:America/New_York
BEGIN:STANDARD
TZNAME:EST
DTSTART:20241103T020000
TZOFFSETFROM:-0400
TZOFFSETTO:-0500
RDATE:20251102T020000
END:STANDARD
BEGIN:DAYLIGHT
TZNAME:EDT
DTSTART:20240310T020000
TZOFFSETFROM:-0500
TZOFFSETTO:-0400
RDATE:20250309T020000
RDATE:20260308T020000
END:DAYLIGHT
END:VTIMEZONE
BEGIN:VEVENT
UID:fb2f5ea4-6b51-401e-be3b-79a5539ab4f9
DTSTAMP:20260421T013517Z
DESCRIPTION:
DTSTART;TZID=America/New_York:20250204T173000
DTEND;TZID=America/New_York:20250204T183000
LOCATION:326 Industrial Parkway\, Suite 1\, Bowling Green\, OH 43402 US
SUMMARY:Gala Planning Committee Meeting
END:VEVENT
END:VCALENDAR
