BEGIN:VCALENDAR
VERSION:2.0
PRODID:-//wchabitat.org//NONSGML kigkonsult.se iCalcreator 2.30.10//
CALSCALE:GREGORIAN
METHOD:PUBLISH
UID:d1765078-0156-4ffe-b744-30a5ff7f1770
X-WR-CALDESC:
X-WR-RELCALID:88be198e68ffa9677e8cc41d4aa20bb0
X-WR-TIMEZONE:America/New_York
BEGIN:VTIMEZONE
TZID:America/New_York
BEGIN:STANDARD
TZNAME:EST
DTSTART:20241103T020000
TZOFFSETFROM:-0400
TZOFFSETTO:-0500
RDATE:20251102T020000
END:STANDARD
BEGIN:DAYLIGHT
TZNAME:EDT
DTSTART:20240310T020000
TZOFFSETFROM:-0500
TZOFFSETTO:-0400
RDATE:20250309T020000
RDATE:20260308T020000
END:DAYLIGHT
END:VTIMEZONE
BEGIN:VEVENT
UID:d49fe1aa-63c1-4cad-8931-64c585ca5833
DTSTAMP:20260421T032408Z
DESCRIPTION:
DTSTART;TZID=America/New_York:20250128T173000
DTEND;TZID=America/New_York:20250128T183000
LOCATION:
SUMMARY:Board Meeting
END:VEVENT
END:VCALENDAR
