BEGIN:VCALENDAR
VERSION:2.0
PRODID:-//wchabitat.org//NONSGML kigkonsult.se iCalcreator 2.30.10//
CALSCALE:GREGORIAN
METHOD:PUBLISH
UID:debfba71-94e3-4b0a-b69e-2a824b271ca1
X-WR-CALDESC:
X-WR-RELCALID:03feddf6f9666ba758db9f1dfbdb32a5
X-WR-TIMEZONE:America/New_York
BEGIN:VTIMEZONE
TZID:America/New_York
BEGIN:STANDARD
TZNAME:EST
DTSTART:20241103T020000
TZOFFSETFROM:-0400
TZOFFSETTO:-0500
RDATE:20251102T020000
END:STANDARD
BEGIN:DAYLIGHT
TZNAME:EDT
DTSTART:20240310T020000
TZOFFSETFROM:-0500
TZOFFSETTO:-0400
RDATE:20250309T020000
RDATE:20260308T020000
END:DAYLIGHT
END:VTIMEZONE
BEGIN:VEVENT
UID:44576451-9aaf-4f5a-aa80-521008e93039
DTSTAMP:20260421T031721Z
DESCRIPTION:
DTSTART;TZID=America/New_York:20250123T110000
DTEND;TZID=America/New_York:20250123T123000
LOCATION:829 W. Newton Rd.\, Suite 1\, Bowling Green\, OH 43402 US
SUMMARY:ReStore Grand Opening
END:VEVENT
END:VCALENDAR
