BEGIN:VCALENDAR
VERSION:2.0
PRODID:-//wchabitat.org//NONSGML kigkonsult.se iCalcreator 2.30.10//
CALSCALE:GREGORIAN
METHOD:PUBLISH
UID:ac7cf47a-2a54-4dc8-909c-9dfd13332a0a
X-WR-CALDESC:Please join us as we celebrate the dedication of our 55th home
  build for the Bumpus family.
X-WR-RELCALID:21362417ab5c0b0c2f00ddd097df0e74
X-WR-TIMEZONE:America/New_York
BEGIN:VTIMEZONE
TZID:America/New_York
BEGIN:STANDARD
TZNAME:EST
DTSTART:20241103T020000
TZOFFSETFROM:-0400
TZOFFSETTO:-0500
RDATE:20251102T020000
END:STANDARD
BEGIN:DAYLIGHT
TZNAME:EDT
DTSTART:20240310T020000
TZOFFSETFROM:-0500
TZOFFSETTO:-0400
RDATE:20250309T020000
RDATE:20260308T020000
END:DAYLIGHT
END:VTIMEZONE
BEGIN:VEVENT
UID:5c25aec9-09ad-4a06-aa6c-4d0eab015811
DTSTAMP:20260421T032109Z
DESCRIPTION:Please join us as we celebrate the dedication of our 55th home 
 build for the Bumpus family.
DTSTART;TZID=America/New_York:20250116T170000
DTEND;TZID=America/New_York:20250116T180000
LOCATION:202 Railroad Street\, Suite 1\, Wayne\, OH 43466 US
SUMMARY:Home Dedication Ceremony
END:VEVENT
END:VCALENDAR
