BEGIN:VCALENDAR
VERSION:2.0
PRODID:-//wchabitat.org//NONSGML kigkonsult.se iCalcreator 2.30.10//
CALSCALE:GREGORIAN
METHOD:PUBLISH
UID:1111481b-a4ff-4a90-825a-aa4c2e8d6595
X-WR-CALDESC:
X-WR-RELCALID:ec7fae897ddc565bb2beae869a91acf1
X-WR-TIMEZONE:America/New_York
BEGIN:VTIMEZONE
TZID:America/New_York
BEGIN:STANDARD
TZNAME:EST
DTSTART:20241103T020000
TZOFFSETFROM:-0400
TZOFFSETTO:-0500
RDATE:20251102T020000
END:STANDARD
BEGIN:DAYLIGHT
TZNAME:EDT
DTSTART:20240310T020000
TZOFFSETFROM:-0500
TZOFFSETTO:-0400
RDATE:20250309T020000
RDATE:20260308T020000
END:DAYLIGHT
END:VTIMEZONE
BEGIN:VEVENT
UID:2ddc826d-f5a1-4ca0-82ce-bd5691aed9c6
DTSTAMP:20260421T063530Z
DESCRIPTION:
DTSTART;TZID=America/New_York:20241126T173000
DTEND;TZID=America/New_York:20241126T183000
LOCATION:
SUMMARY:Board Meeting
END:VEVENT
END:VCALENDAR
