BEGIN:VCALENDAR
VERSION:2.0
PRODID:-//wchabitat.org//NONSGML kigkonsult.se iCalcreator 2.30.10//
CALSCALE:GREGORIAN
METHOD:PUBLISH
UID:4c74e089-dd55-4715-8c67-de635e285ef3
X-WR-CALDESC:Please join us at the Hard Hats & High Heels gala to be held o
 n Friday\, November 22\, 2024 from 6-10pm at Nazareth Hall.  This year Hab
 itat for Humanity hopes to raise $120k in order to fund a complete housing
  project.   There will be a wonderful dinner\, live entertainment\, silent
  auction\, games\, and a live auction with a very special guest.
X-WR-RELCALID:76254a36d53f8e07efc66bd4b57c7e60
X-WR-TIMEZONE:America/New_York
BEGIN:VTIMEZONE
TZID:America/New_York
BEGIN:STANDARD
TZNAME:EST
DTSTART:20241103T020000
TZOFFSETFROM:-0400
TZOFFSETTO:-0500
RDATE:20251102T020000
END:STANDARD
BEGIN:DAYLIGHT
TZNAME:EDT
DTSTART:20240310T020000
TZOFFSETFROM:-0500
TZOFFSETTO:-0400
RDATE:20250309T020000
RDATE:20260308T020000
END:DAYLIGHT
END:VTIMEZONE
BEGIN:VEVENT
UID:47e4b3b4-5b25-4a95-88bc-861d4d8ef1e2
DTSTAMP:20260421T064337Z
DESCRIPTION:Please join us at the Hard Hats & High Heels gala to be held on
  Friday\, November 22\, 2024 from 6-10pm at Nazareth Hall.  This year Habi
 tat for Humanity hopes to raise $120k in order to fund a complete housing 
 project.   There will be a wonderful dinner\, live entertainment\, silent 
 auction\, games\, and a live auction with a very special guest.
DTSTART;TZID=America/New_York:20241122T180000
DTEND;TZID=America/New_York:20241122T220000
LOCATION:Nazareth Hall\, Cadet West Ballroom\, 21211 W. River Rd\, Grand Ra
 pids\, AL 43522 US
SUMMARY:Hard Hats & High Heels Gala
END:VEVENT
END:VCALENDAR
