BEGIN:VCALENDAR
VERSION:2.0
PRODID:-//wchabitat.org//NONSGML kigkonsult.se iCalcreator 2.30.10//
CALSCALE:GREGORIAN
METHOD:PUBLISH
UID:0c7acb8d-308e-44db-a0bb-53763f8443d7
X-WR-CALDESC:
X-WR-RELCALID:3bbfc9153495ad4f03aa5e08f0d436b2
X-WR-TIMEZONE:America/New_York
BEGIN:VTIMEZONE
TZID:America/New_York
BEGIN:STANDARD
TZNAME:EST
DTSTART:20241103T020000
TZOFFSETFROM:-0400
TZOFFSETTO:-0500
RDATE:20251102T020000
END:STANDARD
BEGIN:DAYLIGHT
TZNAME:EDT
DTSTART:20240310T020000
TZOFFSETFROM:-0500
TZOFFSETTO:-0400
RDATE:20250309T020000
RDATE:20260308T020000
END:DAYLIGHT
END:VTIMEZONE
BEGIN:VEVENT
UID:bd62d28b-d278-4801-be2d-d2925114b57f
DTSTAMP:20260421T063750Z
DESCRIPTION:
DTSTART;TZID=America/New_York:20241119T160000
DTEND;TZID=America/New_York:20241119T170000
LOCATION:
SUMMARY:Support Committee Meeting
END:VEVENT
END:VCALENDAR
