BEGIN:VCALENDAR
VERSION:2.0
PRODID:-//wchabitat.org//NONSGML kigkonsult.se iCalcreator 2.30.10//
CALSCALE:GREGORIAN
METHOD:PUBLISH
UID:ebd62b93-cda9-4f81-be93-b7ddaabb7879
X-WR-CALDESC:
X-WR-RELCALID:17a2a72d8e8ecbea68ef2257a21bdb6d
X-WR-TIMEZONE:America/New_York
BEGIN:VTIMEZONE
TZID:America/New_York
BEGIN:STANDARD
TZNAME:EST
DTSTART:20241103T020000
TZOFFSETFROM:-0400
TZOFFSETTO:-0500
RDATE:20251102T020000
END:STANDARD
BEGIN:DAYLIGHT
TZNAME:EDT
DTSTART:20240310T020000
TZOFFSETFROM:-0500
TZOFFSETTO:-0400
RDATE:20250309T020000
RDATE:20260308T020000
END:DAYLIGHT
END:VTIMEZONE
BEGIN:VEVENT
UID:63f8f70d-c2d6-4088-a0e5-8a235b3d9685
DTSTAMP:20260421T063648Z
DESCRIPTION:
DTSTART;TZID=America/New_York:20241107T173000
DTEND;TZID=America/New_York:20241107T183000
LOCATION:326 Industrial Parkway\, Suite 1\, Bowling Green\, OH 43402 US
SUMMARY:Gala Planning Committee Meeting
END:VEVENT
END:VCALENDAR
