BEGIN:VCALENDAR
VERSION:2.0
PRODID:-//wchabitat.org//NONSGML kigkonsult.se iCalcreator 2.30.10//
CALSCALE:GREGORIAN
METHOD:PUBLISH
UID:32b96b56-5495-4654-932a-e04b0325c4f1
X-WR-CALDESC:
X-WR-RELCALID:ea4202f2e90a9aef3acba9bdb6165b73
X-WR-TIMEZONE:America/New_York
BEGIN:VTIMEZONE
TZID:America/New_York
BEGIN:STANDARD
TZNAME:EST
DTSTART:20231105T020000
TZOFFSETFROM:-0400
TZOFFSETTO:-0500
RDATE:20241103T020000
RDATE:20251102T020000
END:STANDARD
BEGIN:DAYLIGHT
TZNAME:EDT
DTSTART:20240310T020000
TZOFFSETFROM:-0500
TZOFFSETTO:-0400
RDATE:20250309T020000
RDATE:20260308T020000
END:DAYLIGHT
END:VTIMEZONE
BEGIN:VEVENT
UID:6bd5beb6-0c87-4e56-b9b2-fbda7b8597b2
DTSTAMP:20260421T081724Z
DESCRIPTION:
DTSTART;TZID=America/New_York:20241022T173000
DTEND;TZID=America/New_York:20241022T183000
LOCATION:
SUMMARY:Board Meeting
END:VEVENT
END:VCALENDAR
