BEGIN:VCALENDAR
VERSION:2.0
PRODID:-//wchabitat.org//NONSGML kigkonsult.se iCalcreator 2.30.10//
CALSCALE:GREGORIAN
METHOD:PUBLISH
UID:394de388-c20f-4031-b05e-a404eed6f772
X-WR-CALDESC:
X-WR-RELCALID:d876609b2cbe87cb4341a0252578f9b9
X-WR-TIMEZONE:America/New_York
BEGIN:VTIMEZONE
TZID:America/New_York
BEGIN:STANDARD
TZNAME:EST
DTSTART:20231105T020000
TZOFFSETFROM:-0400
TZOFFSETTO:-0500
RDATE:20241103T020000
RDATE:20251102T020000
END:STANDARD
BEGIN:DAYLIGHT
TZNAME:EDT
DTSTART:20240310T020000
TZOFFSETFROM:-0500
TZOFFSETTO:-0400
RDATE:20250309T020000
RDATE:20260308T020000
END:DAYLIGHT
END:VTIMEZONE
BEGIN:VEVENT
UID:5154ccf9-5327-4c9b-82f3-1ba93c6abcee
DTSTAMP:20260421T090524Z
DESCRIPTION:
DTSTART;TZID=America/New_York:20241015T160000
DTEND;TZID=America/New_York:20241015T170000
LOCATION:
SUMMARY:Support Committee Meeting
END:VEVENT
END:VCALENDAR
