BEGIN:VCALENDAR
VERSION:2.0
PRODID:-//wchabitat.org//NONSGML kigkonsult.se iCalcreator 2.30.10//
CALSCALE:GREGORIAN
METHOD:PUBLISH
UID:4c1ccff3-0d9e-4189-a429-37523dbb0402
X-WR-CALDESC:Please join us as we break ground in Northwood to begin the ho
 meownership process for a new Habitat Homeowner!  The event will last appr
 oximately 45 minutes and will be held outdoors.  Please dress for the weat
 her conditions.
X-WR-RELCALID:cd84ec4e6ec2f4acc937319d89557c79
X-WR-TIMEZONE:America/New_York
BEGIN:VTIMEZONE
TZID:America/New_York
BEGIN:STANDARD
TZNAME:EST
DTSTART:20231105T020000
TZOFFSETFROM:-0400
TZOFFSETTO:-0500
RDATE:20241103T020000
END:STANDARD
BEGIN:DAYLIGHT
TZNAME:EDT
DTSTART:20240310T020000
TZOFFSETFROM:-0500
TZOFFSETTO:-0400
RDATE:20250309T020000
END:DAYLIGHT
END:VTIMEZONE
BEGIN:VEVENT
UID:7d10fd3b-3504-4e51-8f42-03fce8074249
DTSTAMP:20260421T102055Z
DESCRIPTION:Please join us as we break ground in Northwood to begin the hom
 eownership process for a new Habitat Homeowner!  The event will last appro
 ximately 45 minutes and will be held outdoors.  Please dress for the weath
 er conditions.
DTSTART;TZID=America/New_York:20240328T170000
DTEND;TZID=America/New_York:20240328T174500
LOCATION:1943 Owens Street\, Northwood\, OH 43619 US
SUMMARY:Ground Breaking Ceremony in Northwood\, Ohio
END:VEVENT
END:VCALENDAR
