BEGIN:VCALENDAR
VERSION:2.0
PRODID:-//wchabitat.org//NONSGML kigkonsult.se iCalcreator 2.30.10//
CALSCALE:GREGORIAN
METHOD:PUBLISH
UID:0b24caa8-8294-4f7b-9e13-f8e02440aacb
X-WR-CALDESC:
X-WR-RELCALID:e5f9f1e1fd784719d88140d058cfac25
X-WR-TIMEZONE:America/New_York
BEGIN:VTIMEZONE
TZID:America/New_York
BEGIN:STANDARD
TZNAME:EST
DTSTART:20231105T020000
TZOFFSETFROM:-0400
TZOFFSETTO:-0500
RDATE:20241103T020000
END:STANDARD
BEGIN:DAYLIGHT
TZNAME:EDT
DTSTART:20230312T020000
TZOFFSETFROM:-0500
TZOFFSETTO:-0400
RDATE:20240310T020000
RDATE:20250309T020000
END:DAYLIGHT
END:VTIMEZONE
BEGIN:VEVENT
UID:ec71edb0-56ae-4a44-9055-898853063a72
DTSTAMP:20260420T170123Z
DESCRIPTION:
DTSTART;TZID=America/New_York:20240220T160000
DTEND;TZID=America/New_York:20240220T170000
LOCATION:
SUMMARY:Support Committee Meeting
END:VEVENT
END:VCALENDAR
