BEGIN:VCALENDAR
VERSION:2.0
PRODID:-//wchabitat.org//NONSGML kigkonsult.se iCalcreator 2.30.10//
CALSCALE:GREGORIAN
METHOD:PUBLISH
UID:ca2ce0b8-f911-4aee-a2f2-b612caf62ec5
X-WR-CALDESC:
X-WR-RELCALID:a9b21977bfa53a156bb48e14be16fa59
X-WR-TIMEZONE:America/New_York
BEGIN:VTIMEZONE
TZID:America/New_York
BEGIN:STANDARD
TZNAME:EST
DTSTART:20231105T020000
TZOFFSETFROM:-0400
TZOFFSETTO:-0500
RDATE:20241103T020000
END:STANDARD
BEGIN:DAYLIGHT
TZNAME:EDT
DTSTART:20230312T020000
TZOFFSETFROM:-0500
TZOFFSETTO:-0400
RDATE:20240310T020000
RDATE:20250309T020000
END:DAYLIGHT
END:VTIMEZONE
BEGIN:VEVENT
UID:915b0465-714b-4f2f-9df4-4e7c343bbe0e
DTSTAMP:20260420T091039Z
DESCRIPTION:
DTSTART;TZID=America/New_York:20231213T170000
DTEND;TZID=America/New_York:20231213T183000
LOCATION:17548 Saylor Lane\, Suite 1\, Grand Rapids\, OH 43522 US
SUMMARY:Home Dedication Ceremony
END:VEVENT
END:VCALENDAR
