BEGIN:VCALENDAR
VERSION:2.0
PRODID:-//wchabitat.org//NONSGML kigkonsult.se iCalcreator 2.30.10//
CALSCALE:GREGORIAN
METHOD:PUBLISH
UID:67381ec0-8a6b-4911-918a-8e421ac7197f
X-WR-CALDESC:
X-WR-RELCALID:ec685b92d6032b01e5b37296f9b015d3
X-WR-TIMEZONE:America/New_York
BEGIN:VTIMEZONE
TZID:America/New_York
BEGIN:STANDARD
TZNAME:EST
DTSTART:20221106T020000
TZOFFSETFROM:-0400
TZOFFSETTO:-0500
RDATE:20231105T020000
END:STANDARD
BEGIN:DAYLIGHT
TZNAME:EDT
DTSTART:20220313T020000
TZOFFSETFROM:-0500
TZOFFSETTO:-0400
RDATE:20230312T020000
RDATE:20240310T020000
END:DAYLIGHT
END:VTIMEZONE
BEGIN:VEVENT
UID:49a22da8-f4af-474d-8a47-2905f415833e
DTSTAMP:20260421T142150Z
DESCRIPTION:
DTSTART;TZID=America/New_York:20221220T160000
DTEND;TZID=America/New_York:20221220T170000
LOCATION:
SUMMARY:Support Committee Meeting
END:VEVENT
END:VCALENDAR
