BEGIN:VCALENDAR
VERSION:2.0
PRODID:-//wchabitat.org//NONSGML kigkonsult.se iCalcreator 2.30.10//
CALSCALE:GREGORIAN
METHOD:PUBLISH
UID:9ceb29e3-59f2-49fb-a105-9bbc36aadd86
X-WR-CALDESC:
X-WR-RELCALID:0c0dedf8a4b1660c682b39dc9afcf272
X-WR-TIMEZONE:America/New_York
BEGIN:VTIMEZONE
TZID:America/New_York
BEGIN:STANDARD
TZNAME:EST
DTSTART:20211107T020000
TZOFFSETFROM:-0400
TZOFFSETTO:-0500
RDATE:20221106T020000
END:STANDARD
BEGIN:DAYLIGHT
TZNAME:EDT
DTSTART:20220313T020000
TZOFFSETFROM:-0500
TZOFFSETTO:-0400
RDATE:20230312T020000
END:DAYLIGHT
END:VTIMEZONE
BEGIN:VEVENT
UID:481c0286-bd1d-486b-97af-122666b92b57
DTSTAMP:20260422T083755Z
DESCRIPTION:
DTSTART;TZID=America/New_York:20220426T173000
DTEND;TZID=America/New_York:20220426T183000
LOCATION:
SUMMARY:Board Meeting
END:VEVENT
END:VCALENDAR
