BEGIN:VCALENDAR
VERSION:2.0
PRODID:-//wchabitat.org//NONSGML kigkonsult.se iCalcreator 2.30.10//
CALSCALE:GREGORIAN
METHOD:PUBLISH
UID:76aeec53-5bc9-4859-8c6a-47055d9a829f
X-WR-CALDESC:
X-WR-RELCALID:be78c95a9e5220dbe5aa4c3829906621
X-WR-TIMEZONE:America/New_York
BEGIN:VTIMEZONE
TZID:America/New_York
BEGIN:STANDARD
TZNAME:EST
DTSTART:20211107T020000
TZOFFSETFROM:-0400
TZOFFSETTO:-0500
RDATE:20221106T020000
END:STANDARD
BEGIN:DAYLIGHT
TZNAME:EDT
DTSTART:20220313T020000
TZOFFSETFROM:-0500
TZOFFSETTO:-0400
RDATE:20230312T020000
END:DAYLIGHT
END:VTIMEZONE
BEGIN:VEVENT
UID:14957c26-afd8-4c78-8a65-b8b9029ace09
DTSTAMP:20260422T084139Z
DESCRIPTION:
DTSTART;TZID=America/New_York:20220419T160000
DTEND;TZID=America/New_York:20220419T170000
LOCATION:
SUMMARY:Support Committee Meeting
END:VEVENT
END:VCALENDAR
