BEGIN:VCALENDAR
VERSION:2.0
PRODID:-//wchabitat.org//NONSGML kigkonsult.se iCalcreator 2.30.10//
CALSCALE:GREGORIAN
METHOD:PUBLISH
UID:8a76092d-3047-4747-b5ca-967d73529a95
X-WR-CALDESC:
X-WR-RELCALID:ac7c0e7e818126543806ef099bbb195d
X-WR-TIMEZONE:America/New_York
BEGIN:VTIMEZONE
TZID:America/New_York
BEGIN:STANDARD
TZNAME:EST
DTSTART:20211107T020000
TZOFFSETFROM:-0400
TZOFFSETTO:-0500
RDATE:20221106T020000
END:STANDARD
BEGIN:DAYLIGHT
TZNAME:EDT
DTSTART:20220313T020000
TZOFFSETFROM:-0500
TZOFFSETTO:-0400
RDATE:20230312T020000
END:DAYLIGHT
END:VTIMEZONE
BEGIN:VEVENT
UID:d92ecbe4-2100-443a-a9a5-59dec07f56ce
DTSTAMP:20260422T071447Z
DESCRIPTION:
DTSTART;TZID=America/New_York:20220325T000000
DTEND;TZID=America/New_York:20220326T235900
LOCATION:
SUMMARY:Women Build Event- Make it- Take it
END:VEVENT
END:VCALENDAR
