BEGIN:VCALENDAR
VERSION:2.0
PRODID:-//wchabitat.org//NONSGML kigkonsult.se iCalcreator 2.30.10//
CALSCALE:GREGORIAN
METHOD:PUBLISH
UID:745187d2-33b6-4470-bac9-833c40d56a75
X-WR-CALDESC:
X-WR-RELCALID:c7f4831299276adab38fb8723cf19a3d
X-WR-TIMEZONE:America/New_York
BEGIN:VTIMEZONE
TZID:America/New_York
BEGIN:STANDARD
TZNAME:EST
DTSTART:20211107T020000
TZOFFSETFROM:-0400
TZOFFSETTO:-0500
RDATE:20221106T020000
END:STANDARD
BEGIN:DAYLIGHT
TZNAME:EDT
DTSTART:20210314T020000
TZOFFSETFROM:-0500
TZOFFSETTO:-0400
RDATE:20220313T020000
RDATE:20230312T020000
END:DAYLIGHT
END:VTIMEZONE
BEGIN:VEVENT
UID:00ca1210-cd5c-4648-98f9-106c09c8b460
DTSTAMP:20260422T070852Z
DESCRIPTION:
DTSTART;TZID=America/New_York:20220308T000000
DTEND;TZID=America/New_York:20220308T235900
LOCATION:
SUMMARY:International Women's Day
END:VEVENT
END:VCALENDAR
