BEGIN:VCALENDAR
VERSION:2.0
PRODID:-//wchabitat.org//NONSGML kigkonsult.se iCalcreator 2.30.10//
CALSCALE:GREGORIAN
METHOD:PUBLISH
UID:8c62221a-c213-49f8-98fc-3aad4f5ae053
X-WR-CALDESC:
X-WR-RELCALID:7e64d1c2a17769ecdd69868cc3aed799
X-WR-TIMEZONE:America/New_York
BEGIN:VTIMEZONE
TZID:America/New_York
BEGIN:STANDARD
TZNAME:EST
DTSTART:20211107T020000
TZOFFSETFROM:-0400
TZOFFSETTO:-0500
RDATE:20221106T020000
END:STANDARD
BEGIN:DAYLIGHT
TZNAME:EDT
DTSTART:20210314T020000
TZOFFSETFROM:-0500
TZOFFSETTO:-0400
RDATE:20220313T020000
RDATE:20230312T020000
END:DAYLIGHT
END:VTIMEZONE
BEGIN:VEVENT
UID:a127f4e5-864e-432b-9803-2d62ceeaf10f
DTSTAMP:20260422T071418Z
DESCRIPTION:
DTSTART;TZID=America/New_York:20220308T170000
DTEND;TZID=America/New_York:20220308T180000
LOCATION:
SUMMARY:Homeowner Selection Committee Meeting
END:VEVENT
END:VCALENDAR
