BEGIN:VCALENDAR
VERSION:2.0
PRODID:-//wchabitat.org//NONSGML kigkonsult.se iCalcreator 2.30.10//
CALSCALE:GREGORIAN
METHOD:PUBLISH
UID:d17d7018-99dc-4a44-b666-091e7e3f300a
X-WR-CALDESC:Join Habitat's Volunteer Coordinator on Wednesday Feb. 23rd at
  6:30P via zoom to learn more about Habitat for Humanity of Wood County Oh
 io. This information session is for individuals who are interested in volu
 nteering and current volunteers who want to learn more. Topics to be cover
 ed will include\; Habitat's mission\, history and programs\, upcoming proj
 ects\, ways to get involved and Q&A. RSVP are appreciated but not required
  and can be sent to  volunteer@wchabitat.org  Hope to see you there!'\n
X-WR-RELCALID:61506de909331736618b89eab859abb5
X-WR-TIMEZONE:America/New_York
BEGIN:VTIMEZONE
TZID:America/New_York
BEGIN:STANDARD
TZNAME:EST
DTSTART:20211107T020000
TZOFFSETFROM:-0400
TZOFFSETTO:-0500
RDATE:20221106T020000
END:STANDARD
BEGIN:DAYLIGHT
TZNAME:EDT
DTSTART:20210314T020000
TZOFFSETFROM:-0500
TZOFFSETTO:-0400
RDATE:20220313T020000
RDATE:20230312T020000
END:DAYLIGHT
END:VTIMEZONE
BEGIN:VEVENT
UID:e1e994af-ea54-489a-b723-8726df2d5d07
DTSTAMP:20260422T054038Z
DESCRIPTION:Join Habitat's Volunteer Coordinator on Wednesday Feb. 23rd at 
 6:30P via zoom to learn more about Habitat for Humanity of Wood County Ohi
 o. This information session is for individuals who are interested in volun
 teering and current volunteers who want to learn more. Topics to be covere
 d will include\; Habitat's mission\, history and programs\, upcoming proje
 cts\, ways to get involved and Q&A. RSVP are appreciated but not required 
 and can be sent to  volunteer@wchabitat.org  Hope to see you there!'\n
DTSTART;TZID=America/New_York:20220223T183000
DTEND;TZID=America/New_York:20220223T193000
LOCATION:https://us02web.zoom.us/j/86054767386?pwd=MXZWVDhKZEVVUmNnakNKNVFn
 UzZFQT09#success
SUMMARY:Information Session
END:VEVENT
END:VCALENDAR
