BEGIN:VCALENDAR
VERSION:2.0
PRODID:-//wchabitat.org//NONSGML kigkonsult.se iCalcreator 2.30.10//
CALSCALE:GREGORIAN
METHOD:PUBLISH
UID:867e23e5-a76d-4195-bf53-2b4ef90d1de7
X-WR-CALDESC:
X-WR-RELCALID:cb509ccfcb2634c67be1f345b0c21d3a
X-WR-TIMEZONE:America/New_York
BEGIN:VTIMEZONE
TZID:America/New_York
BEGIN:STANDARD
TZNAME:EST
DTSTART:20211107T020000
TZOFFSETFROM:-0400
TZOFFSETTO:-0500
RDATE:20221106T020000
END:STANDARD
BEGIN:DAYLIGHT
TZNAME:EDT
DTSTART:20210314T020000
TZOFFSETFROM:-0500
TZOFFSETTO:-0400
RDATE:20220313T020000
RDATE:20230312T020000
END:DAYLIGHT
END:VTIMEZONE
BEGIN:VEVENT
UID:742fda85-856d-4837-98ac-e8a602651433
DTSTAMP:20260422T053509Z
DESCRIPTION:
DTSTART;TZID=America/New_York:20220222T173000
DTEND;TZID=America/New_York:20220222T183000
LOCATION:
SUMMARY:Board Meeting
END:VEVENT
END:VCALENDAR
