BEGIN:VCALENDAR
VERSION:2.0
PRODID:-//wchabitat.org//NONSGML kigkonsult.se iCalcreator 2.30.10//
CALSCALE:GREGORIAN
METHOD:PUBLISH
UID:b68ef9d1-f13f-44bb-80fe-82224c2f36aa
X-WR-CALDESC:
X-WR-RELCALID:0a371ae2f958a1f5269377d914638fce
X-WR-TIMEZONE:America/New_York
BEGIN:VTIMEZONE
TZID:America/New_York
BEGIN:STANDARD
TZNAME:EST
DTSTART:20211107T020000
TZOFFSETFROM:-0400
TZOFFSETTO:-0500
RDATE:20221106T020000
END:STANDARD
BEGIN:DAYLIGHT
TZNAME:EDT
DTSTART:20210314T020000
TZOFFSETFROM:-0500
TZOFFSETTO:-0400
RDATE:20220313T020000
RDATE:20230312T020000
END:DAYLIGHT
END:VTIMEZONE
BEGIN:VEVENT
UID:ff9a39df-6491-4892-a273-3c0348ac7c34
DTSTAMP:20260422T053124Z
DESCRIPTION:
DTSTART;TZID=America/New_York:20220211T000000
DTEND;TZID=America/New_York:20220211T235900
LOCATION:
SUMMARY:2-1-1 United Way Day
END:VEVENT
END:VCALENDAR
